BEGIN:VCALENDAR
VERSION:2.0
PRODID:-//East Wind Long Island - ECPv6.15.20//NONSGML v1.0//EN
CALSCALE:GREGORIAN
METHOD:PUBLISH
X-ORIGINAL-URL:https://eastwindlongisland.com
X-WR-CALDESC:Events for East Wind Long Island
REFRESH-INTERVAL;VALUE=DURATION:PT1H
X-Robots-Tag:noindex
X-PUBLISHED-TTL:PT1H
BEGIN:VTIMEZONE
TZID:America/New_York
BEGIN:DAYLIGHT
TZOFFSETFROM:-0500
TZOFFSETTO:-0400
TZNAME:EDT
DTSTART:20240310T070000
END:DAYLIGHT
BEGIN:STANDARD
TZOFFSETFROM:-0400
TZOFFSETTO:-0500
TZNAME:EST
DTSTART:20241103T060000
END:STANDARD
BEGIN:DAYLIGHT
TZOFFSETFROM:-0500
TZOFFSETTO:-0400
TZNAME:EDT
DTSTART:20250309T070000
END:DAYLIGHT
BEGIN:STANDARD
TZOFFSETFROM:-0400
TZOFFSETTO:-0500
TZNAME:EST
DTSTART:20251102T060000
END:STANDARD
BEGIN:DAYLIGHT
TZOFFSETFROM:-0500
TZOFFSETTO:-0400
TZNAME:EDT
DTSTART:20260308T070000
END:DAYLIGHT
BEGIN:STANDARD
TZOFFSETFROM:-0400
TZOFFSETTO:-0500
TZNAME:EST
DTSTART:20261101T060000
END:STANDARD
END:VTIMEZONE
BEGIN:VEVENT
DTSTART;TZID=America/New_York:20250711T190000
DTEND;TZID=America/New_York:20250711T220000
DTSTAMP:20260421T062823
CREATED:20250120T185733Z
LAST-MODIFIED:20250624T143029Z
UID:10002759-1752260400-1752271200@eastwindlongisland.com
SUMMARY:Live Music with Sahara Band
DESCRIPTION:Join us for live music with Sahara Band in our Pub for the best of music of 60’s\, 70’s\, 80’s and more. Check out our pub menu for some great food while listening to great music. \nHappy Hour from 4 – 7pm
URL:https://eastwindlongisland.com/event/live-music-with-sahara-band/2025-07-11/
CATEGORIES:Desmond's
ATTACH;FMTTYPE=image/jpeg:https://eastwindlongisland.com/wp-content/uploads/2023/12/sahara-Photo-web.jpg
END:VEVENT
END:VCALENDAR