BEGIN:VCALENDAR
VERSION:2.0
PRODID:-//East Wind Long Island - ECPv6.15.20//NONSGML v1.0//EN
CALSCALE:GREGORIAN
METHOD:PUBLISH
X-ORIGINAL-URL:https://eastwindlongisland.com
X-WR-CALDESC:Events for East Wind Long Island
REFRESH-INTERVAL;VALUE=DURATION:PT1H
X-Robots-Tag:noindex
X-PUBLISHED-TTL:PT1H
BEGIN:VTIMEZONE
TZID:America/New_York
BEGIN:DAYLIGHT
TZOFFSETFROM:-0500
TZOFFSETTO:-0400
TZNAME:EDT
DTSTART:20240310T070000
END:DAYLIGHT
BEGIN:STANDARD
TZOFFSETFROM:-0400
TZOFFSETTO:-0500
TZNAME:EST
DTSTART:20241103T060000
END:STANDARD
BEGIN:DAYLIGHT
TZOFFSETFROM:-0500
TZOFFSETTO:-0400
TZNAME:EDT
DTSTART:20250309T070000
END:DAYLIGHT
BEGIN:STANDARD
TZOFFSETFROM:-0400
TZOFFSETTO:-0500
TZNAME:EST
DTSTART:20251102T060000
END:STANDARD
BEGIN:DAYLIGHT
TZOFFSETFROM:-0500
TZOFFSETTO:-0400
TZNAME:EDT
DTSTART:20260308T070000
END:DAYLIGHT
BEGIN:STANDARD
TZOFFSETFROM:-0400
TZOFFSETTO:-0500
TZNAME:EST
DTSTART:20261101T060000
END:STANDARD
END:VTIMEZONE
BEGIN:VEVENT
DTSTART;TZID=America/New_York:20250607T110000
DTEND;TZID=America/New_York:20250607T170000
DTSTAMP:20260422T052804
CREATED:20250523T193945Z
LAST-MODIFIED:20250523T193947Z
UID:10002343-1749294000-1749315600@eastwindlongisland.com
SUMMARY:Craft Fair Weekends  at The Shoppes
DESCRIPTION:Monthly Saturdays & Sundays 11am  – 5pm\n\nDates include  June 7 & 8\, July 12 & 13\, August 2 & 3 and September 6 & 7\, October 4 & 5 and November 1 & 2 \nEat\, Shop and play while you shop small and shop local.\nThese Weekend you can also enjoy local craft vendors as well as all The Shoppes have to offer.\nBounce House and Carousel are open and other activities for kids. For information contact Shoppes@eastwindlongisland.com or call 631-846-2372 or visit eastwindlongisland.com \n\nIf interested in Vendor Space contact  Shoppes@eastwindlongisland.com or visit our Vendor Opportunity page
URL:https://eastwindlongisland.com/event/craft-fair-weekends-at-the-shoppes-3/2025-06-07/
LOCATION:Shoppes at East Wind\, 5768 Rt 25A\, WADING RIVER\, NY\, 11792-2033\, United States
CATEGORIES:Shoppes
ATTACH;FMTTYPE=image/jpeg:https://eastwindlongisland.com/wp-content/uploads/2022/07/Crafter-Weekend-GFX-1.jpg
GEO:40.94527;-72.819944
X-APPLE-STRUCTURED-LOCATION;VALUE=URI;X-ADDRESS=Shoppes at East Wind 5768 Rt 25A WADING RIVER NY 11792-2033 United States;X-APPLE-RADIUS=500;X-TITLE=5768 Rt 25A:geo:-72.819944,40.94527
END:VEVENT
BEGIN:VEVENT
DTSTART;TZID=America/New_York:20250608T110000
DTEND;TZID=America/New_York:20250608T170000
DTSTAMP:20260422T052804
CREATED:20250523T193945Z
LAST-MODIFIED:20250523T193947Z
UID:10002344-1749380400-1749402000@eastwindlongisland.com
SUMMARY:Craft Fair Weekends  at The Shoppes
DESCRIPTION:Monthly Saturdays & Sundays 11am  – 5pm\n\nDates include  June 7 & 8\, July 12 & 13\, August 2 & 3 and September 6 & 7\, October 4 & 5 and November 1 & 2 \nEat\, Shop and play while you shop small and shop local.\nThese Weekend you can also enjoy local craft vendors as well as all The Shoppes have to offer.\nBounce House and Carousel are open and other activities for kids. For information contact Shoppes@eastwindlongisland.com or call 631-846-2372 or visit eastwindlongisland.com \n\nIf interested in Vendor Space contact  Shoppes@eastwindlongisland.com or visit our Vendor Opportunity page
URL:https://eastwindlongisland.com/event/craft-fair-weekends-at-the-shoppes-3/2025-06-08/
LOCATION:Shoppes at East Wind\, 5768 Rt 25A\, WADING RIVER\, NY\, 11792-2033\, United States
CATEGORIES:Shoppes
ATTACH;FMTTYPE=image/jpeg:https://eastwindlongisland.com/wp-content/uploads/2022/07/Crafter-Weekend-GFX-1.jpg
GEO:40.94527;-72.819944
X-APPLE-STRUCTURED-LOCATION;VALUE=URI;X-ADDRESS=Shoppes at East Wind 5768 Rt 25A WADING RIVER NY 11792-2033 United States;X-APPLE-RADIUS=500;X-TITLE=5768 Rt 25A:geo:-72.819944,40.94527
END:VEVENT
BEGIN:VEVENT
DTSTART;TZID=America/New_York:20250621T110000
DTEND;TZID=America/New_York:20250621T170000
DTSTAMP:20260422T052804
CREATED:20250609T183344Z
LAST-MODIFIED:20250611T172336Z
UID:10002389-1750503600-1750525200@eastwindlongisland.com
SUMMARY:FAMILY FUN WEEKEND at The Shoppes
DESCRIPTION:Saturday & Sunday\, June 21 & 22\, 2025 from 11am – 5pm \nLet’s celebrate summer!  As school winds down\, let’s start the summer with an awesome time for the entire family.  Join us for FAMILY FUN WEEKEND at The Shoppes at East Wind. Sponsored in part by Renewal By Anderson and NY Life Long Island \nEvent Highlights Include: \n  \n\n\n\n\n\n\n\nLive Music: Enjoy performances from The Newfield High School Drum Ensemble (Saturday\, 11:30 AM – 2:00 PM)\, Sweet Ride (Saturday\, 2:00 PM – 5:00 PM)\, and Emy McB (Sunday\, 11:00 AM – 3:00 PM).\nTouch-a-Truck Explore a real fire truck and learn about fire safety with the Wading River Fire Department\nFree Face Painting\nBounce House\nMeet & Greets with Beloved Children’s Characters – Hint: your favorite blue dog\nOur Iconic Grand Carousel\nTasty Treats and Family-Focused Vendors including Paddock Simworks – racing simulators on SUNDAY ONLY in our Parking Lot\nAnd more.\n\n\n\n\n\n\n\nVendor Application – Sponsorship Opportunities Available  – Please email Shoppes@eastwindlongisland.com
URL:https://eastwindlongisland.com/event/family-fun-weekend-at-the-shoppes-2-2/
CATEGORIES:Shoppes
ATTACH;FMTTYPE=image/png:https://eastwindlongisland.com/wp-content/uploads/2025/04/Family-fun-Weekend.png
END:VEVENT
BEGIN:VEVENT
DTSTART;TZID=America/New_York:20250622T110000
DTEND;TZID=America/New_York:20250622T170000
DTSTAMP:20260422T052804
CREATED:20250611T172239Z
LAST-MODIFIED:20250611T172300Z
UID:10002391-1750590000-1750611600@eastwindlongisland.com
SUMMARY:FAMILY FUN WEEKEND at The Shoppes
DESCRIPTION:Saturday & Sunday\, June 21 & 22\, 2025 from 11am – 5pm \nLet’s celebrate summer!  As school winds down\, let’s start the summer with an awesome time for the entire family.  Join us for FAMILY FUN WEEKEND at The Shoppes at East Wind. Sponsored in part by Renewal By Anderson and NY Life Long Island \nEvent Highlights Include: \n\n\n\n\n\n\n\n Live Music: Enjoy performances from The Newfield High School Drum Ensemble (Saturday\, 11:30 AM – 2:00 PM)\, Sweet Ride (Saturday\, 2:00 PM – 5:00 PM)\, and Emy McB (Sunday\, 11:00 AM – 3:00 PM).\nTouch-a-Truck Explore a real fire truck and learn about fire safety with the Wading River Fire Department\nFace Painting\nBounce House\nMeet & Greets with Beloved Children’s Characters – Hint: your favorite blue dog\nOur Iconic Grand Carousel\nTasty Treats and Family-Focused Vendors – Including Paddock Simworks – racing simulators on SUNDAY ONLY in our Parking Lot\nAnd more.\n\n\n\n\n\n\n\nVendor Application – Sponsorship Opportunities Available  – Please email Shoppes@eastwindlongisland.com
URL:https://eastwindlongisland.com/event/family-fun-weekend-at-the-shoppes-2-3/
CATEGORIES:Shoppes
ATTACH;FMTTYPE=image/png:https://eastwindlongisland.com/wp-content/uploads/2025/04/Family-fun-Weekend.png
END:VEVENT
END:VCALENDAR