BEGIN:VCALENDAR
VERSION:2.0
PRODID:-//East Wind Long Island - ECPv6.15.20//NONSGML v1.0//EN
CALSCALE:GREGORIAN
METHOD:PUBLISH
X-ORIGINAL-URL:https://eastwindlongisland.com
X-WR-CALDESC:Events for East Wind Long Island
REFRESH-INTERVAL;VALUE=DURATION:PT1H
X-Robots-Tag:noindex
X-PUBLISHED-TTL:PT1H
BEGIN:VTIMEZONE
TZID:America/New_York
BEGIN:DAYLIGHT
TZOFFSETFROM:-0500
TZOFFSETTO:-0400
TZNAME:EDT
DTSTART:20250309T070000
END:DAYLIGHT
BEGIN:STANDARD
TZOFFSETFROM:-0400
TZOFFSETTO:-0500
TZNAME:EST
DTSTART:20251102T060000
END:STANDARD
BEGIN:DAYLIGHT
TZOFFSETFROM:-0500
TZOFFSETTO:-0400
TZNAME:EDT
DTSTART:20260308T070000
END:DAYLIGHT
BEGIN:STANDARD
TZOFFSETFROM:-0400
TZOFFSETTO:-0500
TZNAME:EST
DTSTART:20261101T060000
END:STANDARD
BEGIN:DAYLIGHT
TZOFFSETFROM:-0500
TZOFFSETTO:-0400
TZNAME:EDT
DTSTART:20270314T070000
END:DAYLIGHT
BEGIN:STANDARD
TZOFFSETFROM:-0400
TZOFFSETTO:-0500
TZNAME:EST
DTSTART:20271107T060000
END:STANDARD
END:VTIMEZONE
BEGIN:VEVENT
DTSTART;TZID=America/New_York:20260510T103000
DTEND;TZID=America/New_York:20260510T140000
DTSTAMP:20260421T162358
CREATED:20260406T180235Z
LAST-MODIFIED:20260413T131712Z
UID:10002831-1778409000-1778421600@eastwindlongisland.com
SUMMARY:Mother's Day Brunch Celebration in the Grand Ballroom
DESCRIPTION:Celebrate Mom with a beautifully curated Mother’s Day Brunch\, where every detail is designed to delight. From thoughtfully crafted dishes to indulgent sweet finishes\, our menu invites you to slow down\, savor\, and make meaningful memories together. \n CLICK HERE for MENU \n Seating Available at 10:30am\, 11am\, 1:30pm\, 2pm\,   RESERVE BELOW \n  \nAdults $74.95 +tax \nChildren 3-10 $34.95+tax\nGratuity not included.\n(2 hours seating) Tickets are Non-refundable within 7 days of event.\nInfants 2 years and under no charge. Kindly provide their own highchair or booster. \nFor questions call 631.929.6585 \n\n                \n                        \n                            2026 Mother's Day Brunch\n                             \n                         \n \n                        \n                                    *\n                            \n                            \n                                                    \n                                                    First\n                                                \n                            \n                            \n                                                    \n                                                    Last\n                                                \n                            \n                        Email*\n                            \n                        Phone*Choose Your Seating Time + Number of People*10:30AM Party of 2 - 3 People10:30AM Party of 4 - 6 People10:30AM Party of 7 -12 People10:30AM Party of 13 - 18 People11:00AM Party of 2 - 3 People11:00AM Party of 4 - 6 People11:00AM Party of 7 -12 People11:00AM Party of 13 - 18 People1:30PM Party of 2 - 3 People1:30PM Party of 4 - 6 People1:30PM   Party of 7 - 12 People1:30PM Party of 13 - 18 People2:00PM Party of 2 - 3 People2:00PM Party of 4 - 6 People2:00PM Party of 7 -12 People2:00PM Party of 13 - 18 PeopleAdult Ticket 74.95 (plus tax) Quantity*\n					\n					\n						Price:\n						$81.51\n					\n					\n					 Quantity \n				Children 3 - 10 $34.95 (plus tax) Quantity\n					\n					\n						Price:\n						$38.10\n					\n					\n					 Quantity \n				Infant Ticket Quantity\n					\n					\n						Price:\n						$0.00\n					\n					\n					 Quantity \n				Total\n							$0.00\n							\n						HiddenNumber of Adult + Child + Infant TicketsTickets are Non-Refundable*\n								\n								I Agree -  Tickets are non-refundable.\n							Are you adding to an existing reservation? If so please add the name on their reservation here. \n                    \n                    \n                          \n                    \n                \n                \n                    \n                        Total\n							$0.00\n							\n						Credit Card*
URL:https://eastwindlongisland.com/event/mothersdaybrunch/
CATEGORIES:The Inn
ATTACH;FMTTYPE=image/jpeg:https://eastwindlongisland.com/wp-content/uploads/2026/04/Untitled-27-e1776086149838.jpeg
END:VEVENT
END:VCALENDAR