BEGIN:VCALENDAR
VERSION:2.0
PRODID:-//East Wind Long Island - ECPv6.15.20//NONSGML v1.0//EN
CALSCALE:GREGORIAN
METHOD:PUBLISH
X-WR-CALNAME:East Wind Long Island
X-ORIGINAL-URL:https://eastwindlongisland.com
X-WR-CALDESC:Events for East Wind Long Island
REFRESH-INTERVAL;VALUE=DURATION:PT1H
X-Robots-Tag:noindex
X-PUBLISHED-TTL:PT1H
BEGIN:VTIMEZONE
TZID:America/New_York
BEGIN:DAYLIGHT
TZOFFSETFROM:-0500
TZOFFSETTO:-0400
TZNAME:EDT
DTSTART:20250309T070000
END:DAYLIGHT
BEGIN:STANDARD
TZOFFSETFROM:-0400
TZOFFSETTO:-0500
TZNAME:EST
DTSTART:20251102T060000
END:STANDARD
BEGIN:DAYLIGHT
TZOFFSETFROM:-0500
TZOFFSETTO:-0400
TZNAME:EDT
DTSTART:20260308T070000
END:DAYLIGHT
BEGIN:STANDARD
TZOFFSETFROM:-0400
TZOFFSETTO:-0500
TZNAME:EST
DTSTART:20261101T060000
END:STANDARD
BEGIN:DAYLIGHT
TZOFFSETFROM:-0500
TZOFFSETTO:-0400
TZNAME:EDT
DTSTART:20270314T070000
END:DAYLIGHT
BEGIN:STANDARD
TZOFFSETFROM:-0400
TZOFFSETTO:-0500
TZNAME:EST
DTSTART:20271107T060000
END:STANDARD
END:VTIMEZONE
BEGIN:VEVENT
DTSTART;TZID=America/New_York:20260308T150000
DTEND;TZID=America/New_York:20260308T160000
DTSTAMP:20260423T061253
CREATED:20260217T171153Z
LAST-MODIFIED:20260217T195355Z
UID:10002826-1772982000-1772985600@eastwindlongisland.com
SUMMARY:Rise & Restore: A Women’s Wellness Experience Featuring: Sound Healing Event
DESCRIPTION:Women pour into everyone. This International Women’s Day let us fill your cup. \nWhether you’re already at the Spa & Salon and would like to experience the Sound Healing Event as one of your services\, or  would like to stop in for a midday grounding\, we welcome you.  \nSunday\, March 8\, 2026 \n3-4 pm. $40 per person. \nLearn More \nCall to reserve your space 631-846-2339
URL:https://eastwindlongisland.com/event/rise-restore-a-womens-wellness-experience-featuring-floating-sound-bath-meditation/
ATTACH;FMTTYPE=image/jpeg:https://eastwindlongisland.com/wp-content/uploads/2026/02/Untitled-12-e1771348300812.jpeg
END:VEVENT
BEGIN:VEVENT
DTSTART;TZID=America/New_York:20260325T180000
DTEND;TZID=America/New_York:20260325T190000
DTSTAMP:20260423T061253
CREATED:20260220T151706Z
LAST-MODIFIED:20260220T151842Z
UID:10002827-1774461600-1774465200@eastwindlongisland.com
SUMMARY:Wellness + Wisdom: An Evening of Tarot
DESCRIPTION:Join us for an intimate evening of insight and intention as we welcome Rorie Kelly of Sassafras Tarot to our Wellness Suite. \nEnjoy a one-on-one tarot reading in a small group setting designed to nurture reflection and clarity. Complimentary prosecco will be served as you unwind and explore fresh perspective in a safe and welcoming space. \nSpace is very limited\, please call 631.846.2339 to reserve.
URL:https://eastwindlongisland.com/event/wellness-wisdom-an-evening-of-tarot/
CATEGORIES:Spa
ATTACH;FMTTYPE=image/png:https://eastwindlongisland.com/wp-content/uploads/2026/02/ChatGPT-Image-Feb-20-2026-10_14_17-AM-e1771600699531.png
END:VEVENT
END:VCALENDAR