BEGIN:VCALENDAR
VERSION:2.0
PRODID:-//East Wind Long Island - ECPv6.15.20//NONSGML v1.0//EN
CALSCALE:GREGORIAN
METHOD:PUBLISH
X-ORIGINAL-URL:https://eastwindlongisland.com
X-WR-CALDESC:Events for East Wind Long Island
REFRESH-INTERVAL;VALUE=DURATION:PT1H
X-Robots-Tag:noindex
X-PUBLISHED-TTL:PT1H
BEGIN:VTIMEZONE
TZID:America/New_York
BEGIN:DAYLIGHT
TZOFFSETFROM:-0500
TZOFFSETTO:-0400
TZNAME:EDT
DTSTART:20230312T070000
END:DAYLIGHT
BEGIN:STANDARD
TZOFFSETFROM:-0400
TZOFFSETTO:-0500
TZNAME:EST
DTSTART:20231105T060000
END:STANDARD
BEGIN:DAYLIGHT
TZOFFSETFROM:-0500
TZOFFSETTO:-0400
TZNAME:EDT
DTSTART:20240310T070000
END:DAYLIGHT
BEGIN:STANDARD
TZOFFSETFROM:-0400
TZOFFSETTO:-0500
TZNAME:EST
DTSTART:20241103T060000
END:STANDARD
BEGIN:DAYLIGHT
TZOFFSETFROM:-0500
TZOFFSETTO:-0400
TZNAME:EDT
DTSTART:20250309T070000
END:DAYLIGHT
BEGIN:STANDARD
TZOFFSETFROM:-0400
TZOFFSETTO:-0500
TZNAME:EST
DTSTART:20251102T060000
END:STANDARD
BEGIN:DAYLIGHT
TZOFFSETFROM:-0500
TZOFFSETTO:-0400
TZNAME:EDT
DTSTART:20260308T070000
END:DAYLIGHT
BEGIN:STANDARD
TZOFFSETFROM:-0400
TZOFFSETTO:-0500
TZNAME:EST
DTSTART:20261101T060000
END:STANDARD
END:VTIMEZONE
BEGIN:VEVENT
DTSTART;TZID=America/New_York:20241208T100000
DTEND;TZID=America/New_York:20241208T150000
DTSTAMP:20260425T091121
CREATED:20241106T181757Z
LAST-MODIFIED:20241211T220731Z
UID:10001865-1733652000-1733670000@eastwindlongisland.com
SUMMARY:Brunch with Santa at Desmond's
DESCRIPTION:Sundays\, December 15 from 10:00am – 3:00pm – Sorry we are no longer taking online reservations. Walk-ins are welcome day event. \n  Please call 631-846-2335 for more information. \nHo-ho-ho! Join us for a jolly good time at our Brunch with Santa! Indulge in a delightful brunch buffet featuring holiday favorites and take a memorable photo with Santa. \nClick here for menu \n$44.95 Per Person + Tax & Gratuity\nChildren (Ages 3-10) $29.95 + Tax & Gratuity\nChildren 2 and under no charge  **Kindly provide your own high chair \n  \n  \n  \n 
URL:https://eastwindlongisland.com/event/brunch-with-santa-at-desmonds-4/2024-12-08/
LOCATION:Desmond’s\, 5720 Rt 25 A\, WADING RIVER\, NY\, 11792-2033\, United States
CATEGORIES:Desmond's,The Inn
ATTACH;FMTTYPE=image/jpeg:https://eastwindlongisland.com/wp-content/uploads/2021/10/EW-Santa-Brunch-SS_90109753-e1700161230895.jpg
GEO:40.9450102;-72.8179405
X-APPLE-STRUCTURED-LOCATION;VALUE=URI;X-ADDRESS=Desmond’s 5720 Rt 25 A WADING RIVER NY 11792-2033 United States;X-APPLE-RADIUS=500;X-TITLE=5720 Rt 25 A:geo:-72.8179405,40.9450102
END:VEVENT
BEGIN:VEVENT
DTSTART;TZID=America/New_York:20241208T100000
DTEND;TZID=America/New_York:20241208T180000
DTSTAMP:20260425T091121
CREATED:20241003T200411Z
LAST-MODIFIED:20241003T200411Z
UID:10001753-1733652000-1733680800@eastwindlongisland.com
SUMMARY:Sunrise Hi Railers Train Display at The Shoppes
DESCRIPTION:Every weekend Saturday & Sunday from 10am – 6pm  \nStarting Sunday\, November 30 through Sunday\, December 29 \nAdmission is FREE  \nAll aboard! Every weekend of miniature train magic with the Sunrise Hi Railers. Witness intricate train layouts come to life as toy trains chug along their tracks. This is a must-see event for train enthusiasts of all ages! Check out the Exhibition in Suite G (Across from Sweet Melissa’s Candy).
URL:https://eastwindlongisland.com/event/sunrise-hi-railers-train-display-at-the-shoppes/2024-12-08/
CATEGORIES:Shoppes
ATTACH;FMTTYPE=image/jpeg:https://eastwindlongisland.com/wp-content/uploads/2024/10/Sunrise-Hi-Railers.jpg
END:VEVENT
BEGIN:VEVENT
DTSTART;TZID=America/New_York:20241214T100000
DTEND;TZID=America/New_York:20241214T180000
DTSTAMP:20260425T091121
CREATED:20241003T200411Z
LAST-MODIFIED:20241003T200411Z
UID:10001754-1734170400-1734199200@eastwindlongisland.com
SUMMARY:Sunrise Hi Railers Train Display at The Shoppes
DESCRIPTION:Every weekend Saturday & Sunday from 10am – 6pm  \nStarting Sunday\, November 30 through Sunday\, December 29 \nAdmission is FREE  \nAll aboard! Every weekend of miniature train magic with the Sunrise Hi Railers. Witness intricate train layouts come to life as toy trains chug along their tracks. This is a must-see event for train enthusiasts of all ages! Check out the Exhibition in Suite G (Across from Sweet Melissa’s Candy).
URL:https://eastwindlongisland.com/event/sunrise-hi-railers-train-display-at-the-shoppes/2024-12-14/
CATEGORIES:Shoppes
ATTACH;FMTTYPE=image/jpeg:https://eastwindlongisland.com/wp-content/uploads/2024/10/Sunrise-Hi-Railers.jpg
END:VEVENT
BEGIN:VEVENT
DTSTART;TZID=America/New_York:20241215T100000
DTEND;TZID=America/New_York:20241215T180000
DTSTAMP:20260425T091121
CREATED:20241003T200411Z
LAST-MODIFIED:20241003T200411Z
UID:10001755-1734256800-1734285600@eastwindlongisland.com
SUMMARY:Sunrise Hi Railers Train Display at The Shoppes
DESCRIPTION:Every weekend Saturday & Sunday from 10am – 6pm  \nStarting Sunday\, November 30 through Sunday\, December 29 \nAdmission is FREE  \nAll aboard! Every weekend of miniature train magic with the Sunrise Hi Railers. Witness intricate train layouts come to life as toy trains chug along their tracks. This is a must-see event for train enthusiasts of all ages! Check out the Exhibition in Suite G (Across from Sweet Melissa’s Candy).
URL:https://eastwindlongisland.com/event/sunrise-hi-railers-train-display-at-the-shoppes/2024-12-15/
CATEGORIES:Shoppes
ATTACH;FMTTYPE=image/jpeg:https://eastwindlongisland.com/wp-content/uploads/2024/10/Sunrise-Hi-Railers.jpg
END:VEVENT
BEGIN:VEVENT
DTSTART;VALUE=DATE:20241216
DTEND;VALUE=DATE:20241217
DTSTAMP:20260425T091121
CREATED:20241216T135426Z
LAST-MODIFIED:20241216T135426Z
UID:10001931-1734307200-1734393599@eastwindlongisland.com
SUMMARY:Letters to Santa
DESCRIPTION:SANTA’s MAILBOX \nMail your letters to Santa through Thursday\, December 19. \nYou can download a pre-designed letter to Santa by CLICKING HERE \n– or your own and Mail it in this special mailbox. Please include your return address on any letter to receive a letter back from Santa before Christmas.
URL:https://eastwindlongisland.com/event/letters-to-santa/2024-12-16/
CATEGORIES:Shoppes
ATTACH;FMTTYPE=image/jpeg:https://eastwindlongisland.com/wp-content/uploads/2018/11/Santa-mailbox-2-e1543269080170.jpg
END:VEVENT
BEGIN:VEVENT
DTSTART;VALUE=DATE:20241217
DTEND;VALUE=DATE:20241218
DTSTAMP:20260425T091121
CREATED:20241216T135426Z
LAST-MODIFIED:20241216T135426Z
UID:10001932-1734393600-1734479999@eastwindlongisland.com
SUMMARY:Letters to Santa
DESCRIPTION:SANTA’s MAILBOX \nMail your letters to Santa through Thursday\, December 19. \nYou can download a pre-designed letter to Santa by CLICKING HERE \n– or your own and Mail it in this special mailbox. Please include your return address on any letter to receive a letter back from Santa before Christmas.
URL:https://eastwindlongisland.com/event/letters-to-santa/2024-12-17/
CATEGORIES:Shoppes
ATTACH;FMTTYPE=image/jpeg:https://eastwindlongisland.com/wp-content/uploads/2018/11/Santa-mailbox-2-e1543269080170.jpg
END:VEVENT
BEGIN:VEVENT
DTSTART;VALUE=DATE:20241218
DTEND;VALUE=DATE:20241219
DTSTAMP:20260425T091121
CREATED:20241216T135426Z
LAST-MODIFIED:20241216T135426Z
UID:10001933-1734480000-1734566399@eastwindlongisland.com
SUMMARY:Letters to Santa
DESCRIPTION:SANTA’s MAILBOX \nMail your letters to Santa through Thursday\, December 19. \nYou can download a pre-designed letter to Santa by CLICKING HERE \n– or your own and Mail it in this special mailbox. Please include your return address on any letter to receive a letter back from Santa before Christmas.
URL:https://eastwindlongisland.com/event/letters-to-santa/2024-12-18/
CATEGORIES:Shoppes
ATTACH;FMTTYPE=image/jpeg:https://eastwindlongisland.com/wp-content/uploads/2018/11/Santa-mailbox-2-e1543269080170.jpg
END:VEVENT
BEGIN:VEVENT
DTSTART;VALUE=DATE:20241219
DTEND;VALUE=DATE:20241220
DTSTAMP:20260425T091121
CREATED:20241216T135426Z
LAST-MODIFIED:20241216T135426Z
UID:10001934-1734566400-1734652799@eastwindlongisland.com
SUMMARY:Letters to Santa
DESCRIPTION:SANTA’s MAILBOX \nMail your letters to Santa through Thursday\, December 19. \nYou can download a pre-designed letter to Santa by CLICKING HERE \n– or your own and Mail it in this special mailbox. Please include your return address on any letter to receive a letter back from Santa before Christmas.
URL:https://eastwindlongisland.com/event/letters-to-santa/2024-12-19/
CATEGORIES:Shoppes
ATTACH;FMTTYPE=image/jpeg:https://eastwindlongisland.com/wp-content/uploads/2018/11/Santa-mailbox-2-e1543269080170.jpg
END:VEVENT
BEGIN:VEVENT
DTSTART;VALUE=DATE:20241220
DTEND;VALUE=DATE:20241221
DTSTAMP:20260425T091121
CREATED:20241216T135426Z
LAST-MODIFIED:20241216T135426Z
UID:10001935-1734652800-1734739199@eastwindlongisland.com
SUMMARY:Letters to Santa
DESCRIPTION:SANTA’s MAILBOX \nMail your letters to Santa through Thursday\, December 19. \nYou can download a pre-designed letter to Santa by CLICKING HERE \n– or your own and Mail it in this special mailbox. Please include your return address on any letter to receive a letter back from Santa before Christmas.
URL:https://eastwindlongisland.com/event/letters-to-santa/2024-12-20/
CATEGORIES:Shoppes
ATTACH;FMTTYPE=image/jpeg:https://eastwindlongisland.com/wp-content/uploads/2018/11/Santa-mailbox-2-e1543269080170.jpg
END:VEVENT
BEGIN:VEVENT
DTSTART;VALUE=DATE:20241221
DTEND;VALUE=DATE:20241222
DTSTAMP:20260425T091121
CREATED:20241216T135426Z
LAST-MODIFIED:20241216T135426Z
UID:10001936-1734739200-1734825599@eastwindlongisland.com
SUMMARY:Letters to Santa
DESCRIPTION:SANTA’s MAILBOX \nMail your letters to Santa through Thursday\, December 19. \nYou can download a pre-designed letter to Santa by CLICKING HERE \n– or your own and Mail it in this special mailbox. Please include your return address on any letter to receive a letter back from Santa before Christmas.
URL:https://eastwindlongisland.com/event/letters-to-santa/2024-12-21/
CATEGORIES:Shoppes
ATTACH;FMTTYPE=image/jpeg:https://eastwindlongisland.com/wp-content/uploads/2018/11/Santa-mailbox-2-e1543269080170.jpg
END:VEVENT
BEGIN:VEVENT
DTSTART;TZID=America/New_York:20241221T100000
DTEND;TZID=America/New_York:20241221T180000
DTSTAMP:20260425T091121
CREATED:20241003T200411Z
LAST-MODIFIED:20241003T200411Z
UID:10001756-1734775200-1734804000@eastwindlongisland.com
SUMMARY:Sunrise Hi Railers Train Display at The Shoppes
DESCRIPTION:Every weekend Saturday & Sunday from 10am – 6pm  \nStarting Sunday\, November 30 through Sunday\, December 29 \nAdmission is FREE  \nAll aboard! Every weekend of miniature train magic with the Sunrise Hi Railers. Witness intricate train layouts come to life as toy trains chug along their tracks. This is a must-see event for train enthusiasts of all ages! Check out the Exhibition in Suite G (Across from Sweet Melissa’s Candy).
URL:https://eastwindlongisland.com/event/sunrise-hi-railers-train-display-at-the-shoppes/2024-12-21/
CATEGORIES:Shoppes
ATTACH;FMTTYPE=image/jpeg:https://eastwindlongisland.com/wp-content/uploads/2024/10/Sunrise-Hi-Railers.jpg
END:VEVENT
BEGIN:VEVENT
DTSTART;TZID=America/New_York:20241221T110000
DTEND;TZID=America/New_York:20241221T170000
DTSTAMP:20260425T091121
CREATED:20241121T201749Z
LAST-MODIFIED:20241216T144133Z
UID:10001926-1734778800-1734800400@eastwindlongisland.com
SUMMARY:Tis the Season Holiday Shopping Day
DESCRIPTION:Saturday\, December 21 – Starting at 11:00 AM\nThe Shoppes at East Wind \nCelebrate the most wonderful time of the year at Tis the Season Holiday Shopping Day at The Shoppes at East Wind! Get your last minute shopping done with a festive\, fun-filled day with local craft vendors and merry tunes by holiday carolers from the Voyage Academics and visit with characters from Timeless Tales Entertainment and a Train Exhibition with with the Sunrise Hi Railers in a charming festive setting. \nWhether you’re looking for one-of-a-kind gifts\, holiday decor\, or seasonal treats\, you’ll find something special around every corner.  Enjoy a magical atmosphere with twinkling lights\, holiday decorations\, take a ride with Rudolph on the Carousel and enjoy a bounce house (weather permitted). It’s the perfect opportunity to get into the spirit of the season. Free admission. \n 
URL:https://eastwindlongisland.com/event/christmas-holiday-shopping-day/
CATEGORIES:Shoppes
ATTACH;FMTTYPE=image/jpeg:https://eastwindlongisland.com/wp-content/uploads/2024/11/Holiday-shoping-graphic-revise.jpg
END:VEVENT
BEGIN:VEVENT
DTSTART;VALUE=DATE:20241222
DTEND;VALUE=DATE:20241223
DTSTAMP:20260425T091121
CREATED:20241216T135426Z
LAST-MODIFIED:20241216T135426Z
UID:10001937-1734825600-1734911999@eastwindlongisland.com
SUMMARY:Letters to Santa
DESCRIPTION:SANTA’s MAILBOX \nMail your letters to Santa through Thursday\, December 19. \nYou can download a pre-designed letter to Santa by CLICKING HERE \n– or your own and Mail it in this special mailbox. Please include your return address on any letter to receive a letter back from Santa before Christmas.
URL:https://eastwindlongisland.com/event/letters-to-santa/2024-12-22/
CATEGORIES:Shoppes
ATTACH;FMTTYPE=image/jpeg:https://eastwindlongisland.com/wp-content/uploads/2018/11/Santa-mailbox-2-e1543269080170.jpg
END:VEVENT
BEGIN:VEVENT
DTSTART;TZID=America/New_York:20241222T100000
DTEND;TZID=America/New_York:20241222T180000
DTSTAMP:20260425T091121
CREATED:20241003T200411Z
LAST-MODIFIED:20241003T200411Z
UID:10001757-1734861600-1734890400@eastwindlongisland.com
SUMMARY:Sunrise Hi Railers Train Display at The Shoppes
DESCRIPTION:Every weekend Saturday & Sunday from 10am – 6pm  \nStarting Sunday\, November 30 through Sunday\, December 29 \nAdmission is FREE  \nAll aboard! Every weekend of miniature train magic with the Sunrise Hi Railers. Witness intricate train layouts come to life as toy trains chug along their tracks. This is a must-see event for train enthusiasts of all ages! Check out the Exhibition in Suite G (Across from Sweet Melissa’s Candy).
URL:https://eastwindlongisland.com/event/sunrise-hi-railers-train-display-at-the-shoppes/2024-12-22/
CATEGORIES:Shoppes
ATTACH;FMTTYPE=image/jpeg:https://eastwindlongisland.com/wp-content/uploads/2024/10/Sunrise-Hi-Railers.jpg
END:VEVENT
BEGIN:VEVENT
DTSTART;VALUE=DATE:20241223
DTEND;VALUE=DATE:20241224
DTSTAMP:20260425T091121
CREATED:20241216T135426Z
LAST-MODIFIED:20241216T135426Z
UID:10001938-1734912000-1734998399@eastwindlongisland.com
SUMMARY:Letters to Santa
DESCRIPTION:SANTA’s MAILBOX \nMail your letters to Santa through Thursday\, December 19. \nYou can download a pre-designed letter to Santa by CLICKING HERE \n– or your own and Mail it in this special mailbox. Please include your return address on any letter to receive a letter back from Santa before Christmas.
URL:https://eastwindlongisland.com/event/letters-to-santa/2024-12-23/
CATEGORIES:Shoppes
ATTACH;FMTTYPE=image/jpeg:https://eastwindlongisland.com/wp-content/uploads/2018/11/Santa-mailbox-2-e1543269080170.jpg
END:VEVENT
BEGIN:VEVENT
DTSTART;VALUE=DATE:20241224
DTEND;VALUE=DATE:20241225
DTSTAMP:20260425T091121
CREATED:20241216T135426Z
LAST-MODIFIED:20241216T135426Z
UID:10001939-1734998400-1735084799@eastwindlongisland.com
SUMMARY:Letters to Santa
DESCRIPTION:SANTA’s MAILBOX \nMail your letters to Santa through Thursday\, December 19. \nYou can download a pre-designed letter to Santa by CLICKING HERE \n– or your own and Mail it in this special mailbox. Please include your return address on any letter to receive a letter back from Santa before Christmas.
URL:https://eastwindlongisland.com/event/letters-to-santa/2024-12-24/
CATEGORIES:Shoppes
ATTACH;FMTTYPE=image/jpeg:https://eastwindlongisland.com/wp-content/uploads/2018/11/Santa-mailbox-2-e1543269080170.jpg
END:VEVENT
BEGIN:VEVENT
DTSTART;VALUE=DATE:20241225
DTEND;VALUE=DATE:20241226
DTSTAMP:20260425T091121
CREATED:20241216T135426Z
LAST-MODIFIED:20241216T135426Z
UID:10001940-1735084800-1735171199@eastwindlongisland.com
SUMMARY:Letters to Santa
DESCRIPTION:SANTA’s MAILBOX \nMail your letters to Santa through Thursday\, December 19. \nYou can download a pre-designed letter to Santa by CLICKING HERE \n– or your own and Mail it in this special mailbox. Please include your return address on any letter to receive a letter back from Santa before Christmas.
URL:https://eastwindlongisland.com/event/letters-to-santa/2024-12-25/
CATEGORIES:Shoppes
ATTACH;FMTTYPE=image/jpeg:https://eastwindlongisland.com/wp-content/uploads/2018/11/Santa-mailbox-2-e1543269080170.jpg
END:VEVENT
BEGIN:VEVENT
DTSTART;VALUE=DATE:20241226
DTEND;VALUE=DATE:20241227
DTSTAMP:20260425T091121
CREATED:20241216T135426Z
LAST-MODIFIED:20241216T135426Z
UID:10001941-1735171200-1735257599@eastwindlongisland.com
SUMMARY:Letters to Santa
DESCRIPTION:SANTA’s MAILBOX \nMail your letters to Santa through Thursday\, December 19. \nYou can download a pre-designed letter to Santa by CLICKING HERE \n– or your own and Mail it in this special mailbox. Please include your return address on any letter to receive a letter back from Santa before Christmas.
URL:https://eastwindlongisland.com/event/letters-to-santa/2024-12-26/
CATEGORIES:Shoppes
ATTACH;FMTTYPE=image/jpeg:https://eastwindlongisland.com/wp-content/uploads/2018/11/Santa-mailbox-2-e1543269080170.jpg
END:VEVENT
BEGIN:VEVENT
DTSTART;VALUE=DATE:20241227
DTEND;VALUE=DATE:20241228
DTSTAMP:20260425T091121
CREATED:20241216T135426Z
LAST-MODIFIED:20241216T135426Z
UID:10001942-1735257600-1735343999@eastwindlongisland.com
SUMMARY:Letters to Santa
DESCRIPTION:SANTA’s MAILBOX \nMail your letters to Santa through Thursday\, December 19. \nYou can download a pre-designed letter to Santa by CLICKING HERE \n– or your own and Mail it in this special mailbox. Please include your return address on any letter to receive a letter back from Santa before Christmas.
URL:https://eastwindlongisland.com/event/letters-to-santa/2024-12-27/
CATEGORIES:Shoppes
ATTACH;FMTTYPE=image/jpeg:https://eastwindlongisland.com/wp-content/uploads/2018/11/Santa-mailbox-2-e1543269080170.jpg
END:VEVENT
BEGIN:VEVENT
DTSTART;VALUE=DATE:20241228
DTEND;VALUE=DATE:20241229
DTSTAMP:20260425T091121
CREATED:20241216T135426Z
LAST-MODIFIED:20241216T135426Z
UID:10001943-1735344000-1735430399@eastwindlongisland.com
SUMMARY:Letters to Santa
DESCRIPTION:SANTA’s MAILBOX \nMail your letters to Santa through Thursday\, December 19. \nYou can download a pre-designed letter to Santa by CLICKING HERE \n– or your own and Mail it in this special mailbox. Please include your return address on any letter to receive a letter back from Santa before Christmas.
URL:https://eastwindlongisland.com/event/letters-to-santa/2024-12-28/
CATEGORIES:Shoppes
ATTACH;FMTTYPE=image/jpeg:https://eastwindlongisland.com/wp-content/uploads/2018/11/Santa-mailbox-2-e1543269080170.jpg
END:VEVENT
BEGIN:VEVENT
DTSTART;TZID=America/New_York:20241228T100000
DTEND;TZID=America/New_York:20241228T180000
DTSTAMP:20260425T091121
CREATED:20241003T200411Z
LAST-MODIFIED:20241003T200411Z
UID:10001758-1735380000-1735408800@eastwindlongisland.com
SUMMARY:Sunrise Hi Railers Train Display at The Shoppes
DESCRIPTION:Every weekend Saturday & Sunday from 10am – 6pm  \nStarting Sunday\, November 30 through Sunday\, December 29 \nAdmission is FREE  \nAll aboard! Every weekend of miniature train magic with the Sunrise Hi Railers. Witness intricate train layouts come to life as toy trains chug along their tracks. This is a must-see event for train enthusiasts of all ages! Check out the Exhibition in Suite G (Across from Sweet Melissa’s Candy).
URL:https://eastwindlongisland.com/event/sunrise-hi-railers-train-display-at-the-shoppes/2024-12-28/
CATEGORIES:Shoppes
ATTACH;FMTTYPE=image/jpeg:https://eastwindlongisland.com/wp-content/uploads/2024/10/Sunrise-Hi-Railers.jpg
END:VEVENT
BEGIN:VEVENT
DTSTART;VALUE=DATE:20241229
DTEND;VALUE=DATE:20241230
DTSTAMP:20260425T091121
CREATED:20241216T135426Z
LAST-MODIFIED:20241216T135426Z
UID:10001944-1735430400-1735516799@eastwindlongisland.com
SUMMARY:Letters to Santa
DESCRIPTION:SANTA’s MAILBOX \nMail your letters to Santa through Thursday\, December 19. \nYou can download a pre-designed letter to Santa by CLICKING HERE \n– or your own and Mail it in this special mailbox. Please include your return address on any letter to receive a letter back from Santa before Christmas.
URL:https://eastwindlongisland.com/event/letters-to-santa/2024-12-29/
CATEGORIES:Shoppes
ATTACH;FMTTYPE=image/jpeg:https://eastwindlongisland.com/wp-content/uploads/2018/11/Santa-mailbox-2-e1543269080170.jpg
END:VEVENT
BEGIN:VEVENT
DTSTART;TZID=America/New_York:20241229T100000
DTEND;TZID=America/New_York:20241229T180000
DTSTAMP:20260425T091121
CREATED:20241003T200411Z
LAST-MODIFIED:20241003T200411Z
UID:10001759-1735466400-1735495200@eastwindlongisland.com
SUMMARY:Sunrise Hi Railers Train Display at The Shoppes
DESCRIPTION:Every weekend Saturday & Sunday from 10am – 6pm  \nStarting Sunday\, November 30 through Sunday\, December 29 \nAdmission is FREE  \nAll aboard! Every weekend of miniature train magic with the Sunrise Hi Railers. Witness intricate train layouts come to life as toy trains chug along their tracks. This is a must-see event for train enthusiasts of all ages! Check out the Exhibition in Suite G (Across from Sweet Melissa’s Candy).
URL:https://eastwindlongisland.com/event/sunrise-hi-railers-train-display-at-the-shoppes/2024-12-29/
CATEGORIES:Shoppes
ATTACH;FMTTYPE=image/jpeg:https://eastwindlongisland.com/wp-content/uploads/2024/10/Sunrise-Hi-Railers.jpg
END:VEVENT
BEGIN:VEVENT
DTSTART;VALUE=DATE:20241230
DTEND;VALUE=DATE:20241231
DTSTAMP:20260425T091121
CREATED:20241216T135426Z
LAST-MODIFIED:20241216T135426Z
UID:10001945-1735516800-1735603199@eastwindlongisland.com
SUMMARY:Letters to Santa
DESCRIPTION:SANTA’s MAILBOX \nMail your letters to Santa through Thursday\, December 19. \nYou can download a pre-designed letter to Santa by CLICKING HERE \n– or your own and Mail it in this special mailbox. Please include your return address on any letter to receive a letter back from Santa before Christmas.
URL:https://eastwindlongisland.com/event/letters-to-santa/2024-12-30/
CATEGORIES:Shoppes
ATTACH;FMTTYPE=image/jpeg:https://eastwindlongisland.com/wp-content/uploads/2018/11/Santa-mailbox-2-e1543269080170.jpg
END:VEVENT
BEGIN:VEVENT
DTSTART;VALUE=DATE:20241231
DTEND;VALUE=DATE:20250101
DTSTAMP:20260425T091121
CREATED:20241216T135426Z
LAST-MODIFIED:20241216T135426Z
UID:10001946-1735603200-1735689599@eastwindlongisland.com
SUMMARY:Letters to Santa
DESCRIPTION:SANTA’s MAILBOX \nMail your letters to Santa through Thursday\, December 19. \nYou can download a pre-designed letter to Santa by CLICKING HERE \n– or your own and Mail it in this special mailbox. Please include your return address on any letter to receive a letter back from Santa before Christmas.
URL:https://eastwindlongisland.com/event/letters-to-santa/2024-12-31/
CATEGORIES:Shoppes
ATTACH;FMTTYPE=image/jpeg:https://eastwindlongisland.com/wp-content/uploads/2018/11/Santa-mailbox-2-e1543269080170.jpg
END:VEVENT
BEGIN:VEVENT
DTSTART;TZID=America/New_York:20241231T170000
DTEND;TZID=America/New_York:20241231T210000
DTSTAMP:20260425T091121
CREATED:20241113T133115Z
LAST-MODIFIED:20241113T175950Z
UID:10000888-1735664400-1735678800@eastwindlongisland.com
SUMMARY:New Year's Eve Dinner at Desmond's
DESCRIPTION:Celebrate New Year’s Eve with a special evening for the whole family! Enjoy a relaxed\, memorable dinner before the countdown begins with our exquisite 3-course prix fixe menu. Reserve your table now for a delightful culinary experience before you ring in the New Year!\n$64.95 per person + Tax & Gratuity\nThree Course Prix Fixe – CLICK HERE FOR MENU\nCall 631.846.2335 to reserve.
URL:https://eastwindlongisland.com/event/new-years-eve-dinner-at-desmonds/
LOCATION:Desmond’s\, 5720 Rt 25 A\, WADING RIVER\, NY\, 11792-2033\, United States
CATEGORIES:Desmond's
ATTACH;FMTTYPE=image/jpeg:https://eastwindlongisland.com/wp-content/uploads/2018/10/NYE-at-Desmonds.jpg
GEO:40.9450102;-72.8179405
X-APPLE-STRUCTURED-LOCATION;VALUE=URI;X-ADDRESS=Desmond’s 5720 Rt 25 A WADING RIVER NY 11792-2033 United States;X-APPLE-RADIUS=500;X-TITLE=5720 Rt 25 A:geo:-72.8179405,40.9450102
END:VEVENT
BEGIN:VEVENT
DTSTART;TZID=America/New_York:20241231T200000
DTEND;TZID=America/New_York:20250101T010000
DTSTAMP:20260425T091121
CREATED:20241113T062557Z
LAST-MODIFIED:20241221T173436Z
UID:10000886-1735675200-1735693200@eastwindlongisland.com
SUMMARY:New Year's Eve Gala in the Grand Ballroom
DESCRIPTION:$155 All-inclusive per person \nRing in the New Year 2025 with East Wind!\n5 Hours Premium Bar Service ~ Passed Hors D’Oeuvres ~ Hot & Cold Buffet ~ Champagne Toast at Midnight ~ Live Simulcast of Times Square ~ Party Hats\, Noisemakers\, Horns ~ Live DJ Entertainment with Epic Events – Tickets are non-refundable\n21 & Older\, ID required. RESERVE ONLINE \nCLICK HERE to SEE MENU \nCancellation Policy***. Tickets are NON-REFUNDABLE – No exceptions
URL:https://eastwindlongisland.com/event/new-years-eve-gala-in-the-grand-ballroom/
LOCATION:The Inn at East Wind\, 5720 Rt 25 A\, WADING RIVER\, NY\, 11792-2033\, United States
CATEGORIES:The Inn
ATTACH;FMTTYPE=image/jpeg:https://eastwindlongisland.com/wp-content/uploads/2022/11/NYE-2022-e1734802453154.jpg
END:VEVENT
BEGIN:VEVENT
DTSTART;VALUE=DATE:20250101
DTEND;VALUE=DATE:20250102
DTSTAMP:20260425T091121
CREATED:20241216T135426Z
LAST-MODIFIED:20241216T135426Z
UID:10001947-1735689600-1735775999@eastwindlongisland.com
SUMMARY:Letters to Santa
DESCRIPTION:SANTA’s MAILBOX \nMail your letters to Santa through Thursday\, December 19. \nYou can download a pre-designed letter to Santa by CLICKING HERE \n– or your own and Mail it in this special mailbox. Please include your return address on any letter to receive a letter back from Santa before Christmas.
URL:https://eastwindlongisland.com/event/letters-to-santa/2025-01-01/
CATEGORIES:Shoppes
ATTACH;FMTTYPE=image/jpeg:https://eastwindlongisland.com/wp-content/uploads/2018/11/Santa-mailbox-2-e1543269080170.jpg
END:VEVENT
BEGIN:VEVENT
DTSTART;VALUE=DATE:20250102
DTEND;VALUE=DATE:20250103
DTSTAMP:20260425T091121
CREATED:20241216T135426Z
LAST-MODIFIED:20241216T135426Z
UID:10001948-1735776000-1735862399@eastwindlongisland.com
SUMMARY:Letters to Santa
DESCRIPTION:SANTA’s MAILBOX \nMail your letters to Santa through Thursday\, December 19. \nYou can download a pre-designed letter to Santa by CLICKING HERE \n– or your own and Mail it in this special mailbox. Please include your return address on any letter to receive a letter back from Santa before Christmas.
URL:https://eastwindlongisland.com/event/letters-to-santa/2025-01-02/
CATEGORIES:Shoppes
ATTACH;FMTTYPE=image/jpeg:https://eastwindlongisland.com/wp-content/uploads/2018/11/Santa-mailbox-2-e1543269080170.jpg
END:VEVENT
BEGIN:VEVENT
DTSTART;VALUE=DATE:20250103
DTEND;VALUE=DATE:20250104
DTSTAMP:20260425T091121
CREATED:20241216T135426Z
LAST-MODIFIED:20241216T135426Z
UID:10001949-1735862400-1735948799@eastwindlongisland.com
SUMMARY:Letters to Santa
DESCRIPTION:SANTA’s MAILBOX \nMail your letters to Santa through Thursday\, December 19. \nYou can download a pre-designed letter to Santa by CLICKING HERE \n– or your own and Mail it in this special mailbox. Please include your return address on any letter to receive a letter back from Santa before Christmas.
URL:https://eastwindlongisland.com/event/letters-to-santa/2025-01-03/
CATEGORIES:Shoppes
ATTACH;FMTTYPE=image/jpeg:https://eastwindlongisland.com/wp-content/uploads/2018/11/Santa-mailbox-2-e1543269080170.jpg
END:VEVENT
END:VCALENDAR