BEGIN:VCALENDAR
VERSION:2.0
PRODID:-//East Wind Long Island - ECPv6.15.20//NONSGML v1.0//EN
CALSCALE:GREGORIAN
METHOD:PUBLISH
X-ORIGINAL-URL:https://eastwindlongisland.com
X-WR-CALDESC:Events for East Wind Long Island
REFRESH-INTERVAL;VALUE=DURATION:PT1H
X-Robots-Tag:noindex
X-PUBLISHED-TTL:PT1H
BEGIN:VTIMEZONE
TZID:America/New_York
BEGIN:DAYLIGHT
TZOFFSETFROM:-0500
TZOFFSETTO:-0400
TZNAME:EDT
DTSTART:20180311T070000
END:DAYLIGHT
BEGIN:STANDARD
TZOFFSETFROM:-0400
TZOFFSETTO:-0500
TZNAME:EST
DTSTART:20181104T060000
END:STANDARD
BEGIN:DAYLIGHT
TZOFFSETFROM:-0500
TZOFFSETTO:-0400
TZNAME:EDT
DTSTART:20190310T070000
END:DAYLIGHT
BEGIN:STANDARD
TZOFFSETFROM:-0400
TZOFFSETTO:-0500
TZNAME:EST
DTSTART:20191103T060000
END:STANDARD
BEGIN:DAYLIGHT
TZOFFSETFROM:-0500
TZOFFSETTO:-0400
TZNAME:EDT
DTSTART:20200308T070000
END:DAYLIGHT
BEGIN:STANDARD
TZOFFSETFROM:-0400
TZOFFSETTO:-0500
TZNAME:EST
DTSTART:20201101T060000
END:STANDARD
BEGIN:DAYLIGHT
TZOFFSETFROM:-0500
TZOFFSETTO:-0400
TZNAME:EDT
DTSTART:20210314T070000
END:DAYLIGHT
BEGIN:STANDARD
TZOFFSETFROM:-0400
TZOFFSETTO:-0500
TZNAME:EST
DTSTART:20211107T060000
END:STANDARD
BEGIN:DAYLIGHT
TZOFFSETFROM:-0500
TZOFFSETTO:-0400
TZNAME:EDT
DTSTART:20220313T070000
END:DAYLIGHT
BEGIN:STANDARD
TZOFFSETFROM:-0400
TZOFFSETTO:-0500
TZNAME:EST
DTSTART:20221106T060000
END:STANDARD
BEGIN:DAYLIGHT
TZOFFSETFROM:-0500
TZOFFSETTO:-0400
TZNAME:EDT
DTSTART:20230312T070000
END:DAYLIGHT
BEGIN:STANDARD
TZOFFSETFROM:-0400
TZOFFSETTO:-0500
TZNAME:EST
DTSTART:20231105T060000
END:STANDARD
BEGIN:DAYLIGHT
TZOFFSETFROM:-0500
TZOFFSETTO:-0400
TZNAME:EDT
DTSTART:20240310T070000
END:DAYLIGHT
BEGIN:STANDARD
TZOFFSETFROM:-0400
TZOFFSETTO:-0500
TZNAME:EST
DTSTART:20241103T060000
END:STANDARD
BEGIN:DAYLIGHT
TZOFFSETFROM:-0500
TZOFFSETTO:-0400
TZNAME:EDT
DTSTART:20250309T070000
END:DAYLIGHT
BEGIN:STANDARD
TZOFFSETFROM:-0400
TZOFFSETTO:-0500
TZNAME:EST
DTSTART:20251102T060000
END:STANDARD
END:VTIMEZONE
BEGIN:VEVENT
DTSTART;TZID=America/New_York:20240209T170000
DTEND;TZID=America/New_York:20240209T200000
DTSTAMP:20260421T111125
CREATED:20240124T140837Z
LAST-MODIFIED:20240124T211503Z
UID:10000898-1707498000-1707508800@eastwindlongisland.com
SUMMARY:Job Fair - Join our Catering Team
DESCRIPTION:Join Us For Our JOB FAIR at East Wind \nFriday\, February 9 ~ 5:00 – 8:00pm  and Saturday\, February 10 ~ 2:00 – 5:00pm \nAll catering positions Servers\, bartenders\, cocktail attendants\, captains\, bridal attendants and hostesses. \nWeekend availability is a must\, some experience is required\, competitive pay\, advancement and friendly work environment. \nCLICK HERE to APPLY ONLINE \nEast Wind Long Island is an Equal Opportunity Employer. \nCall 631-929-3500 for more information
URL:https://eastwindlongisland.com/event/job-fair/
CATEGORIES:The Inn
ATTACH;FMTTYPE=image/jpeg:https://eastwindlongisland.com/wp-content/uploads/2023/02/Job-Fair-graphic-2024.jpg
END:VEVENT
BEGIN:VEVENT
DTSTART;TZID=America/New_York:20230813T120000
DTEND;TZID=America/New_York:20230813T153000
DTSTAMP:20260421T111125
CREATED:20220706T153426Z
LAST-MODIFIED:20230706T174153Z
UID:10000773-1691928000-1691940600@eastwindlongisland.com
SUMMARY:Long Island Bridal Expo Super Show at East Wind
DESCRIPTION:Meet More Than 50 Experienced Wedding Professionals\n$10 admission per person with advanced online reservation \n$20 per person when registering at the door.\nFood Tasting courtesy of the East Wind for all Brides\, Grooms\, Family and Friends \nLive DJ Showcase featuring two of the Top DJ entertainment companies\, Tommy’s Tunes and Long Island Sound \nSee a Spectacular Fashion Show presented by The Bridal Salon of Dix Hills \nTalk with more than 50 Top Wedding Professionals featuring Photography\, Videography\, Wedding Gowns\, Flowers\, Limousines\, Tuxedos\, Invitations\, Cakes\, DJ’s\, Bands\, Hair Salon and Spa’s\, Photo booths\, Lighting\, Decorating and so much more. \nMeet representatives from East Wind and take a tour of their beautiful grounds and catering facilities including The Estate and The Vineyard. \nLimousines will be on display outside with the latest Luxury Buses\, Exotic Cars\, Trolleys and more \nAt Long Island Bridal Expo Super Show at East Wind\, “you will find everything for your wedding under one roof” \nGRAND PRIZES\nWIN A 4 DAY ALL INCLUSIVE TRIP (BAHAMA’S\, MEXICO OR DOMINICAN REPUBLIC)\nWIN $500 OFF A WEDDING GOWN COURTESY OF PRINCESS BRIDALS\nMust be Present to Win \nTickets $10 with Advanced Registration. $20 at the Door. \nMust be Present to Win  – CLICK HERE to register
URL:https://eastwindlongisland.com/event/bridal-expo-super-show/
LOCATION:The Inn at East Wind\, 5720 Rt 25 A\, WADING RIVER\, NY\, 11792-2033\, United States
CATEGORIES:The Inn
ATTACH;FMTTYPE=image/jpeg:https://eastwindlongisland.com/wp-content/uploads/2022/07/2023-06-16-HG-M-Rachel-Anthony-1156-LR--scaled.jpeg
END:VEVENT
BEGIN:VEVENT
DTSTART;TZID=America/New_York:20221030T180000
DTEND;TZID=America/New_York:20221030T220000
DTSTAMP:20260421T111125
CREATED:20220915T213314Z
LAST-MODIFIED:20221025T165324Z
UID:10000631-1667152800-1667167200@eastwindlongisland.com
SUMMARY:Halloween Costume Bash - CANCELLED
DESCRIPTION:SORRY THIS EVENT HAS BEEN CANCELLED. THANK YOU!\nFor questions  Please call 631.929.6585 
URL:https://eastwindlongisland.com/event/halloween-costume-bash/
CATEGORIES:The Inn
ATTACH;FMTTYPE=image/jpeg:https://eastwindlongisland.com/wp-content/uploads/2022/09/shutterstock_1201165864-Halloween-party-web-scaled.jpg
END:VEVENT
BEGIN:VEVENT
DTSTART;TZID=America/New_York:20220725T180000
DTEND;TZID=America/New_York:20220725T210000
DTSTAMP:20260421T111125
CREATED:20220627T120030Z
LAST-MODIFIED:20220627T172225Z
UID:10000553-1658772000-1658782800@eastwindlongisland.com
SUMMARY:Psychic Dinner Night at Desmond's
DESCRIPTION:Monday\, July 25 from 6:00 – 9:00pm \nIs summer lovin’ in your stars. Join us for dinner and an evening with Psychic Medium Brenda Lee & Co * \nBuffet style dinner includes: Salad\, Entrée\, Dessert Coffee or Tea\nDinner includes a one-on-one private meeting! \nAll inclusive for $75 per person. Tickets are non-refundable. \nFull payment required at time of reservation.\nLimited seating Make reservations now!\nCall 631.846.2335 \n\nDisclaimer: All services provided are for ENTERTAINMENT PURPOSES ONLY.
URL:https://eastwindlongisland.com/event/psychic-reading-dinner-night-at-desmonds-72522/
LOCATION:Desmond’s\, 5720 Rt 25 A\, WADING RIVER\, NY\, 11792-2033\, United States
CATEGORIES:Desmond's,The Inn
ATTACH;FMTTYPE=image/jpeg:https://eastwindlongisland.com/wp-content/uploads/2018/08/Crystal-400x6400.jpg
GEO:40.9450102;-72.8179405
X-APPLE-STRUCTURED-LOCATION;VALUE=URI;X-ADDRESS=Desmond’s 5720 Rt 25 A WADING RIVER NY 11792-2033 United States;X-APPLE-RADIUS=500;X-TITLE=5720 Rt 25 A:geo:-72.8179405,40.9450102
END:VEVENT
BEGIN:VEVENT
DTSTART;TZID=America/New_York:20190731T190000
DTEND;TZID=America/New_York:20190731T230000
DTSTAMP:20260421T111125
CREATED:20190614T141954Z
LAST-MODIFIED:20190724T155644Z
UID:10000666-1564599600-1564614000@eastwindlongisland.com
SUMMARY:Super Ryan Fundraiser at East Wind
DESCRIPTION:Wednesday\, July 31  from 7 – 11PM\nSUPERMAN\, SUPER HUMAN\, SUPER RYAN is what our Executive Chef Ryan’s 3 children call him  as he battles his KRYPTONITE (aka Cancer)\nBut NO ONE FIGHTS ALONE!  Join us and be a Super Hero too! \nSince “food is the ingredient that binds us together”\, this event will feature well known professional chefs and restaurateurs from Long Island to Las Vegas dedicating their culinary talents with active work stations for everyone to enjoy\, including: Steve Gallagher\, of The Trattoria in St. James\, Steven Scalesse of Tullulah’s in Bay Shore\, Chef Matthew Birnstill of The Quogue Club’s\, John      Bauer of Danford’s in Port Jefferson\, Jim Liszanckie of Sunny’s Diner and Grill in Riverhead\, Patrick Gaeta of North Fork Bacon & Smokehouse\, Marc Lamaina of Lucharitos’s in Greenport\, Eric Lomando of Kitchen A Bistro in Smithtown\, Josh Eden of August in NYC\, Peter Mangouranes of Good Life in Massapequa Park\, Justin Scarfo of Ruggero’s in Wading River\, John Louis\, Maui Chop House in Rocky Point\, James McDevitt\, of Bohlsen Restaurant Group in Islip\, Anthony D’Adamo of the Ritz Carlton Central Park NYC\, Stephan Bogardus of Halyard in Greenport\, Tom Schaudel of Jewel Restaurant in Melville\, and food purveyors Prime Foods & Braun Seafood\, all brought together by Ralph Perrazzo from BBD’s Las Vegas-Beers Burgers Desserts “I’m truly fortunate to have amazing friends in this industry who will always show support in time of need”.  What better way to wash down delicious food…Five breweries will be on hand serving their signature brew\, including Sand City Brewing Company of Northport\, Barrier Brewing of Oceanside\, Root & Branch in Copiague\, Evil Twin in Ridgewood\, and Grimm in Brooklyn. \nCLICK HERE to See Chef’s Menu \n$75 per person or $700 for table of 10\nBuffet  DJ  Beer Wine & Soda  Chinese Auction  50/50 – including a luxurious two-night stay at Foxwood Casino Resort with dining and spa credit\nEast Wind Long Island  5720 RT. 25A  Wading River\, NY 11792\nFor information call  631-929-6585 for Tickets visit https://www.eventbrite.com/e/super-ryan-fundraiser-tickets-64388825711 \nSuper Ryan’s Story:\nIn May 2018 Ryan was diagnosed with a rare form of Cancer\, after undergoing grueling surgery and many medical treatments\, things were looking positive until just recently he found out that the cancer returned and is now more aggressive\, he underwent another major surgery and will have to go through 34 rounds of radiation/chemo. He is a loving father to 3 beautiful children\, a kind husband\, a great friend and amazing co-worker to many. \nUnable to attend but still want to help\, visit
URL:https://eastwindlongisland.com/event/super-ryan-fundraiser-at-east-wind/
LOCATION:The Inn at East Wind\, 5720 Rt 25 A\, WADING RIVER\, NY\, 11792-2033\, United States
CATEGORIES:The Inn
ATTACH;FMTTYPE=image/jpeg:https://eastwindlongisland.com/wp-content/uploads/2019/06/Super-Ryan-image.jpg
END:VEVENT
END:VCALENDAR